BEGIN:VCALENDAR
VERSION:2.0
PRODID:-//Ariochs Erben - ECPv6.15.19//NONSGML v1.0//EN
CALSCALE:GREGORIAN
METHOD:PUBLISH
X-ORIGINAL-URL:https://ariochs-erben.at
X-WR-CALDESC:Veranstaltungen für Ariochs Erben
REFRESH-INTERVAL;VALUE=DURATION:PT1H
X-Robots-Tag:noindex
X-PUBLISHED-TTL:PT1H
BEGIN:VTIMEZONE
TZID:Europe/Berlin
BEGIN:DAYLIGHT
TZOFFSETFROM:+0100
TZOFFSETTO:+0200
TZNAME:CEST
DTSTART:20230326T010000
END:DAYLIGHT
BEGIN:STANDARD
TZOFFSETFROM:+0200
TZOFFSETTO:+0100
TZNAME:CET
DTSTART:20231029T010000
END:STANDARD
BEGIN:DAYLIGHT
TZOFFSETFROM:+0100
TZOFFSETTO:+0200
TZNAME:CEST
DTSTART:20240331T010000
END:DAYLIGHT
BEGIN:STANDARD
TZOFFSETFROM:+0200
TZOFFSETTO:+0100
TZNAME:CET
DTSTART:20241027T010000
END:STANDARD
BEGIN:DAYLIGHT
TZOFFSETFROM:+0100
TZOFFSETTO:+0200
TZNAME:CEST
DTSTART:20250330T010000
END:DAYLIGHT
BEGIN:STANDARD
TZOFFSETFROM:+0200
TZOFFSETTO:+0100
TZNAME:CET
DTSTART:20251026T010000
END:STANDARD
END:VTIMEZONE
BEGIN:VEVENT
DTSTART;TZID=Europe/Berlin:20240530T080000
DTEND;TZID=Europe/Berlin:20240602T170000
DTSTAMP:20260424T123211
CREATED:20240307T101552Z
LAST-MODIFIED:20240307T101552Z
UID:11751-1717056000-1717347600@ariochs-erben.at
SUMMARY:Scheibenweltspiel
DESCRIPTION:Wird von Wyrd Thiem veranstaltet.
URL:https://ariochs-erben.at/event/scheibenweltspiel/
END:VEVENT
BEGIN:VEVENT
DTSTART;TZID=Europe/Berlin:20240602T170100
DTEND;TZID=Europe/Berlin:20240602T170100
DTSTAMP:20260424T123211
CREATED:20231016T184734Z
LAST-MODIFIED:20231016T184734Z
UID:11495-1717347660-1717347660@ariochs-erben.at
SUMMARY:Podcast „Ariochs Offenbarung“ Folge 20 – GoLive
DESCRIPTION:
URL:https://ariochs-erben.at/event/podcast-ariochs-offenbarung-folge-20-golive/
CATEGORIES:Ariochs Erben,Larp,Podcast
ATTACH;FMTTYPE=application/pdf:https://ariochs-erben.at/wp-content/uploads/2023/10/Ariochs-Offenbarung-14.pdf
END:VEVENT
BEGIN:VEVENT
DTSTART;TZID=Europe/Berlin:20240610T180000
DTEND;TZID=Europe/Berlin:20240610T220000
DTSTAMP:20260424T123211
CREATED:20240515T181222Z
LAST-MODIFIED:20240515T181222Z
UID:11839-1718042400-1718056800@ariochs-erben.at
SUMMARY:Ariochs Erben goes IMPRO #4
DESCRIPTION:Ariochs Erben goes IMPRO #4\nEin ca. 4stündiges Abendprogramm mit viel Spaß am gemeinsamen Scheitern. \nMo.\, 10.06.24\n18:00 – 22:00 c.t.\n1070\, Kaiserstr. 5 \nDie kostenlosen Impro-Kursen exklusiv für Vereinsmitglieder kommen sehr gut an & darum machen wir hurtig weiter mit der Gaudi!\nAlle spätentschlossenen Interessent_innen\, die sich nicht bereits im Doodle eingetragen haben\, melden sich bitte bis spätestens Mo.\, 3. Juni bei Kursleiter Reini unter impro@ariochs-erben.at (Es sind dzt. noch ein paar Plätze frei – 1st come\, 1st served.)\nMotivierte Einsteiger_innen herzlichst willkommen! – Unsere „Stammbelegschaft“ freut sich stets über frisches Blut … *muahahaha*
URL:https://ariochs-erben.at/event/ariochs-erben-goes-impro-4/
LOCATION:1070 Wien\, Kaiserstraße 5\, Österreich
END:VEVENT
BEGIN:VEVENT
DTSTART;TZID=Europe/Berlin:20240613T180000
DTEND;TZID=Europe/Berlin:20240613T220000
DTSTAMP:20260424T123211
CREATED:20231016T183257Z
LAST-MODIFIED:20231016T183257Z
UID:11456-1718301600-1718316000@ariochs-erben.at
SUMMARY:Stammtisch - Ariochs Erben
DESCRIPTION:Zu unserem monatlichen Stammtisch sind alle eingeladen\, egal ob Mitglied\, Anfänger oder Interessent. Bei gemütlicher und familiärer Atmosphäre wird gegessen und geplaudert.\nHier kannst du ganz entspannt vorbei kommen und erste Kontakte knüpfen und Anschluss an Gruppen finden.\nGerne erzählen wir dir dort was wir schon erlebt haben\, wie man sich ein Larp so vorstellen kann und man sich vorbereiten kann. Wenn du Fragen hast kannst du uns bei dieser Gelegenheit auch gerne damit löchern.\nDenn wir alle haben ein gemeinsames Hobby und gemeinsame Interessen die uns verbinden und über die wir uns auf den Stammtischen austauschen.\nWir freuen uns über jeden der vorbei kommt\, egal ob (noch) fremd oder ein altbekanntes Gesicht.\nWenn du dir nicht sicher bist kannst du uns auch jederzeit unter info@ariochs-erben.at oder auf Facebook erreichen und kontaktieren. \nWir freuen uns auf dich!
URL:https://ariochs-erben.at/event/stammtisch-ariochs-erben-39/
LOCATION:Brau.Bar (bei den Stadtbahnbögen)\, Hernalser Gürtel 47\, Wien\, 1170\, Österreich
CATEGORIES:Ariochs Erben,Stammtisch
ATTACH;FMTTYPE=image/png:https://ariochs-erben.at/wp-content/uploads/2018/02/Arioch_Chaso_Stern.png
ORGANIZER;CN="Ariochs Erben":MAILTO:finanzen@ariochs-erben.at
END:VEVENT
BEGIN:VEVENT
DTSTART;TZID=Europe/Berlin:20240616T170100
DTEND;TZID=Europe/Berlin:20240616T170100
DTSTAMP:20260424T123211
CREATED:20231016T184904Z
LAST-MODIFIED:20231016T184904Z
UID:11498-1718557260-1718557260@ariochs-erben.at
SUMMARY:Podcast „Ariochs Offenbarung“ Folge 21 – GoLive
DESCRIPTION:
URL:https://ariochs-erben.at/event/podcast-ariochs-offenbarung-folge-21-golive/
CATEGORIES:Ariochs Erben,Larp,Podcast
ATTACH;FMTTYPE=application/pdf:https://ariochs-erben.at/wp-content/uploads/2023/10/Ariochs-Offenbarung-15.pdf
END:VEVENT
BEGIN:VEVENT
DTSTART;TZID=Europe/Berlin:20240619T180000
DTEND;TZID=Europe/Berlin:20240619T220000
DTSTAMP:20260424T123211
CREATED:20231016T184943Z
LAST-MODIFIED:20231016T184943Z
UID:11500-1718820000-1718834400@ariochs-erben.at
SUMMARY:Arioch goes Graz
DESCRIPTION:Einmal im Quartal laden wir zu einem Stammtisch im schönen Graz ein.\nDer vermehrte Zudrang aus dem Süden hat uns dazu gebracht und wir wollen den Versuch starten auch dort einen wiederkehrenden Arioch-Stammtisch zu etablieren. \nDenn wir alle haben ein gemeinsames Hobby und gemeinsame Interessen die uns verbinden und über die wir uns auf den Stammtischen austauschen. \nWir freuen uns über jeden der vorbei kommt\, egal ob (noch) fremd oder ein altbekanntes Gesicht. \nWenn du dir nicht sicher bist kannst du uns auch jederzeit unter info@ariochs-erben.at oder auf Facebook erreichen und kontaktieren. \n  \nWir freuen uns auf dich!
URL:https://ariochs-erben.at/event/arioch-goes-graz-3/
LOCATION:Taverne zum güldenen Bären\, Kaiser-Franz-Josef-Kai 42\, Graz\, 8010
CATEGORIES:Ariochs Erben,Stammtisch
ATTACH;FMTTYPE=image/png:https://ariochs-erben.at/wp-content/uploads/2018/02/Arioch_Chaso_Stern.png
ORGANIZER;CN="Ariochs Erben":MAILTO:finanzen@ariochs-erben.at
END:VEVENT
BEGIN:VEVENT
DTSTART;TZID=Europe/Berlin:20240622T170000
DTEND;TZID=Europe/Berlin:20240622T230000
DTSTAMP:20260424T123211
CREATED:20230628T104608Z
LAST-MODIFIED:20240622T075820Z
UID:11325-1719075600-1719097200@ariochs-erben.at
SUMMARY:Goldener Keiler
DESCRIPTION:Im Zentrum des Goldlandes ist es in den letzten Wochen ruhiger geworden. Manche vermuten etwas dahinter\, andere denken sich eher nichts und wieder andere freut es\, dass sie nun endlich ihren eigenen Geschäften nachgehen können. \nIhr habt davon gehört\, dass sich ein Teil der „Helden“ Ariochias in einer kleinen Taverne\, abseits der Hauptstraße\, zirka 4 Tagesreisen von Ports Auregia entfernt treffen soll. Die Taverne trägt den klingenden Namen „Der nächtliche Reisende“ \nKeiner bekam einen genauen Grund\, niemand einen Brief und keiner einen magischen Boten\, aber alle hörten davon. \nWarum genau trifft man sich? Die wenigsten wissen es… \n  \n  \nMindest Anzahl Teilnehmer:
URL:https://ariochs-erben.at/event/goldener-keiler-3/
LOCATION:Erdbergkeller\, Erdbergstraße 59\, Erdberg-Keller\, 1030\, Österreich
ATTACH;FMTTYPE=image/jpeg:https://ariochs-erben.at/wp-content/uploads/2023/04/taverne.jpg
END:VEVENT
BEGIN:VEVENT
DTSTART;TZID=Europe/Berlin:20240630T170100
DTEND;TZID=Europe/Berlin:20240630T170100
DTSTAMP:20260424T123211
CREATED:20231016T185056Z
LAST-MODIFIED:20231016T185056Z
UID:11503-1719766860-1719766860@ariochs-erben.at
SUMMARY:Podcast „Ariochs Offenbarung“ Folge 22 – GoLive
DESCRIPTION:
URL:https://ariochs-erben.at/event/podcast-ariochs-offenbarung-folge-22-golive/
CATEGORIES:Ariochs Erben,Larp,Podcast
ATTACH;FMTTYPE=application/pdf:https://ariochs-erben.at/wp-content/uploads/2023/10/Ariochs-Offenbarung-16.pdf
END:VEVENT
END:VCALENDAR