BEGIN:VCALENDAR
VERSION:2.0
PRODID:-//Ariochs Erben - ECPv6.15.19//NONSGML v1.0//EN
CALSCALE:GREGORIAN
METHOD:PUBLISH
X-ORIGINAL-URL:https://ariochs-erben.at
X-WR-CALDESC:Veranstaltungen für Ariochs Erben
REFRESH-INTERVAL;VALUE=DURATION:PT1H
X-Robots-Tag:noindex
X-PUBLISHED-TTL:PT1H
BEGIN:VTIMEZONE
TZID:Europe/Berlin
BEGIN:DAYLIGHT
TZOFFSETFROM:+0100
TZOFFSETTO:+0200
TZNAME:CEST
DTSTART:20230326T010000
END:DAYLIGHT
BEGIN:STANDARD
TZOFFSETFROM:+0200
TZOFFSETTO:+0100
TZNAME:CET
DTSTART:20231029T010000
END:STANDARD
BEGIN:DAYLIGHT
TZOFFSETFROM:+0100
TZOFFSETTO:+0200
TZNAME:CEST
DTSTART:20240331T010000
END:DAYLIGHT
BEGIN:STANDARD
TZOFFSETFROM:+0200
TZOFFSETTO:+0100
TZNAME:CET
DTSTART:20241027T010000
END:STANDARD
BEGIN:DAYLIGHT
TZOFFSETFROM:+0100
TZOFFSETTO:+0200
TZNAME:CEST
DTSTART:20250330T010000
END:DAYLIGHT
BEGIN:STANDARD
TZOFFSETFROM:+0200
TZOFFSETTO:+0100
TZNAME:CET
DTSTART:20251026T010000
END:STANDARD
END:VTIMEZONE
BEGIN:VEVENT
DTSTART;TZID=Europe/Berlin:20240505T170100
DTEND;TZID=Europe/Berlin:20240505T170100
DTSTAMP:20260424T104842
CREATED:20231016T184410Z
LAST-MODIFIED:20231016T184410Z
UID:11487-1714928460-1714928460@ariochs-erben.at
SUMMARY:Podcast „Ariochs Offenbarung“ Folge 18 – GoLive
DESCRIPTION:
URL:https://ariochs-erben.at/event/podcast-ariochs-offenbarung-folge-18-golive/
CATEGORIES:Ariochs Erben,Larp,Podcast
ATTACH;FMTTYPE=application/pdf:https://ariochs-erben.at/wp-content/uploads/2023/10/Ariochs-Offenbarung-12.pdf
END:VEVENT
BEGIN:VEVENT
DTSTART;TZID=Europe/Berlin:20240508T180000
DTEND;TZID=Europe/Berlin:20240508T220000
DTSTAMP:20260424T104842
CREATED:20240408T085518Z
LAST-MODIFIED:20240408T085518Z
UID:11790-1715191200-1715205600@ariochs-erben.at
SUMMARY:Ariochs Erben goes IMPRO
DESCRIPTION:Es geht weiter mit den kostenlosen Impro-Kursen exklusiv für Vereinsmitglieder! \nAlle spätentschlossenen Interessent_innen\, die sich nicht bereits via Doodle angemeldet haben\, melden sich bis spätestens Fr.\, 19.April bei Kursleiter Reini unter impro@ariochs-erben.at. (Max. 6 Plätze sind dzt. noch frei – 1st come\, 1st served …) \nWir machen dort weiter\, wo wir zuletzt stehen geblieben sind\, werden aber auch für ahnungslose Einsteiger_innen immer wieder einzelne Themen wiederholen – ein ca. 4stündiges Abendprogramm mit viel Spaß am gemeinsamen Scheitern. \n 
URL:https://ariochs-erben.at/event/ariochs-erben-goes-impro-3/
LOCATION:1070 Wien\, Kaiserstraße 5\, Österreich
END:VEVENT
BEGIN:VEVENT
DTSTART;TZID=Europe/Berlin:20240514T180000
DTEND;TZID=Europe/Berlin:20240514T220000
DTSTAMP:20260424T104842
CREATED:20231016T183120Z
LAST-MODIFIED:20231016T183120Z
UID:11453-1715709600-1715724000@ariochs-erben.at
SUMMARY:Stammtisch - Ariochs Erben
DESCRIPTION:Zu unserem monatlichen Stammtisch sind alle eingeladen\, egal ob Mitglied\, Anfänger oder Interessent. Bei gemütlicher und familiärer Atmosphäre wird gegessen und geplaudert.\nHier kannst du ganz entspannt vorbei kommen und erste Kontakte knüpfen und Anschluss an Gruppen finden.\nGerne erzählen wir dir dort was wir schon erlebt haben\, wie man sich ein Larp so vorstellen kann und man sich vorbereiten kann. Wenn du Fragen hast kannst du uns bei dieser Gelegenheit auch gerne damit löchern.\nDenn wir alle haben ein gemeinsames Hobby und gemeinsame Interessen die uns verbinden und über die wir uns auf den Stammtischen austauschen.\nWir freuen uns über jeden der vorbei kommt\, egal ob (noch) fremd oder ein altbekanntes Gesicht.\nWenn du dir nicht sicher bist kannst du uns auch jederzeit unter info@ariochs-erben.at oder auf Facebook erreichen und kontaktieren. \nWir freuen uns auf dich!
URL:https://ariochs-erben.at/event/stammtisch-ariochs-erben-38/
LOCATION:Brau.Bar (bei den Stadtbahnbögen)\, Hernalser Gürtel 47\, Wien\, 1170\, Österreich
CATEGORIES:Ariochs Erben,Stammtisch
ATTACH;FMTTYPE=image/png:https://ariochs-erben.at/wp-content/uploads/2018/02/Arioch_Chaso_Stern.png
ORGANIZER;CN="Ariochs Erben":MAILTO:finanzen@ariochs-erben.at
END:VEVENT
BEGIN:VEVENT
DTSTART;TZID=Europe/Berlin:20240519T170100
DTEND;TZID=Europe/Berlin:20240519T170100
DTSTAMP:20260424T104842
CREATED:20231016T184610Z
LAST-MODIFIED:20231016T184610Z
UID:11490-1716138060-1716138060@ariochs-erben.at
SUMMARY:Podcast „Ariochs Offenbarung“ Folge 19 – GoLive
DESCRIPTION:Gast: Martin\nThema: Archetyp „Barde“
URL:https://ariochs-erben.at/event/podcast-ariochs-offenbarung-folge-19-golive/
CATEGORIES:Ariochs Erben,Larp,Podcast
ATTACH;FMTTYPE=application/pdf:https://ariochs-erben.at/wp-content/uploads/2023/10/Ariochs-Offenbarung-13.pdf
END:VEVENT
BEGIN:VEVENT
DTSTART;TZID=Europe/Berlin:20240530T080000
DTEND;TZID=Europe/Berlin:20240602T170000
DTSTAMP:20260424T104842
CREATED:20240307T101552Z
LAST-MODIFIED:20240307T101552Z
UID:11751-1717056000-1717347600@ariochs-erben.at
SUMMARY:Scheibenweltspiel
DESCRIPTION:Wird von Wyrd Thiem veranstaltet.
URL:https://ariochs-erben.at/event/scheibenweltspiel/
END:VEVENT
END:VCALENDAR