BEGIN:VCALENDAR
VERSION:2.0
PRODID:-//Ariochs Erben - ECPv6.15.19//NONSGML v1.0//EN
CALSCALE:GREGORIAN
METHOD:PUBLISH
X-WR-CALNAME:Ariochs Erben
X-ORIGINAL-URL:https://ariochs-erben.at
X-WR-CALDESC:Veranstaltungen für Ariochs Erben
REFRESH-INTERVAL;VALUE=DURATION:PT1H
X-Robots-Tag:noindex
X-PUBLISHED-TTL:PT1H
BEGIN:VTIMEZONE
TZID:Europe/Berlin
BEGIN:DAYLIGHT
TZOFFSETFROM:+0100
TZOFFSETTO:+0200
TZNAME:CEST
DTSTART:20230326T010000
END:DAYLIGHT
BEGIN:STANDARD
TZOFFSETFROM:+0200
TZOFFSETTO:+0100
TZNAME:CET
DTSTART:20231029T010000
END:STANDARD
BEGIN:DAYLIGHT
TZOFFSETFROM:+0100
TZOFFSETTO:+0200
TZNAME:CEST
DTSTART:20240331T010000
END:DAYLIGHT
BEGIN:STANDARD
TZOFFSETFROM:+0200
TZOFFSETTO:+0100
TZNAME:CET
DTSTART:20241027T010000
END:STANDARD
BEGIN:DAYLIGHT
TZOFFSETFROM:+0100
TZOFFSETTO:+0200
TZNAME:CEST
DTSTART:20250330T010000
END:DAYLIGHT
BEGIN:STANDARD
TZOFFSETFROM:+0200
TZOFFSETTO:+0100
TZNAME:CET
DTSTART:20251026T010000
END:STANDARD
END:VTIMEZONE
BEGIN:VEVENT
DTSTART;TZID=Europe/Berlin:20240405T150000
DTEND;TZID=Europe/Berlin:20240407T150000
DTSTAMP:20260424T090922
CREATED:20230425T075116Z
LAST-MODIFIED:20230629T074917Z
UID:11274-1712329200-1712502000@ariochs-erben.at
SUMMARY:Balneus
DESCRIPTION:„Der Vollmond scheint durchs Blätterdach. Warmer Atem in kalter Luft. Wölfe heulen. Eine Hütte\, darin ein dunkler Raum. Der Geruch von Schwefel zieht wie Nebel umher. Kräuter trocknen an der Wand\, Tränke füllen Tische und Regale. Texturen aus Glas und Holz. Rezepte\, Gedanken\, Symbole verewigt auf Pergament. Fell trifft auf Stahl. Wachsame Augen leuchten in der Dunkelheit. Ein Körper in Flüssigkeit. Schatten\, die darum schleichen. Eine lang vergessene Erinnerung hallt von den Wänden. Ein Herzschlag ohne Seele“ \nEinladung
URL:https://ariochs-erben.at/event/balneus/
LOCATION:Burg Wildegg\, Wildeggerstraße 41\, Sparbach\, Niederösterreich\, 2393\, Österreich
CATEGORIES:Ariochs Erben,Larp
ATTACH;FMTTYPE=image/jpeg:https://ariochs-erben.at/wp-content/uploads/2023/04/IMG-20230628-WA0003.jpg
END:VEVENT
BEGIN:VEVENT
DTSTART;TZID=Europe/Berlin:20240407T170100
DTEND;TZID=Europe/Berlin:20240407T170100
DTSTAMP:20260424T090922
CREATED:20231016T184044Z
LAST-MODIFIED:20231016T184044Z
UID:11476-1712509260-1712509260@ariochs-erben.at
SUMMARY:Podcast „Ariochs Offenbarung“ Folge 16 – GoLive
DESCRIPTION:Gast: Seppi\nThema: Spezies „Traumelf“
URL:https://ariochs-erben.at/event/podcast-ariochs-offenbarung-folge-16-golive/
CATEGORIES:Ariochs Erben,Larp,Podcast
ATTACH;FMTTYPE=application/pdf:https://ariochs-erben.at/wp-content/uploads/2023/10/Ariochs-Offenbarung-10.pdf
END:VEVENT
BEGIN:VEVENT
DTSTART;TZID=Europe/Berlin:20240411T180000
DTEND;TZID=Europe/Berlin:20240411T220000
DTSTAMP:20260424T090922
CREATED:20231016T182957Z
LAST-MODIFIED:20231016T182957Z
UID:11448-1712858400-1712872800@ariochs-erben.at
SUMMARY:Stammtisch - Ariochs Erben
DESCRIPTION:Zu unserem monatlichen Stammtisch sind alle eingeladen\, egal ob Mitglied\, Anfänger oder Interessent. Bei gemütlicher und familiärer Atmosphäre wird gegessen und geplaudert.\nHier kannst du ganz entspannt vorbei kommen und erste Kontakte knüpfen und Anschluss an Gruppen finden.\nGerne erzählen wir dir dort was wir schon erlebt haben\, wie man sich ein Larp so vorstellen kann und man sich vorbereiten kann. Wenn du Fragen hast kannst du uns bei dieser Gelegenheit auch gerne damit löchern.\nDenn wir alle haben ein gemeinsames Hobby und gemeinsame Interessen die uns verbinden und über die wir uns auf den Stammtischen austauschen.\nWir freuen uns über jeden der vorbei kommt\, egal ob (noch) fremd oder ein altbekanntes Gesicht.\nWenn du dir nicht sicher bist kannst du uns auch jederzeit unter info@ariochs-erben.at oder auf Facebook erreichen und kontaktieren. \nWir freuen uns auf dich!
URL:https://ariochs-erben.at/event/stammtisch-ariochs-erben-37/
LOCATION:Brau.Bar (bei den Stadtbahnbögen)\, Hernalser Gürtel 47\, Wien\, 1170\, Österreich
CATEGORIES:Ariochs Erben,Stammtisch
ATTACH;FMTTYPE=image/png:https://ariochs-erben.at/wp-content/uploads/2018/02/Arioch_Chaso_Stern.png
ORGANIZER;CN="Ariochs Erben":MAILTO:finanzen@ariochs-erben.at
END:VEVENT
BEGIN:VEVENT
DTSTART;TZID=Europe/Berlin:20240413T080000
DTEND;TZID=Europe/Berlin:20240414T170000
DTSTAMP:20260424T090922
CREATED:20231128T074100Z
LAST-MODIFIED:20240225T104720Z
UID:11610-1712995200-1713114000@ariochs-erben.at
SUMMARY:FantasyCon 2024
DESCRIPTION:Die Fantasy Con\, welche uns in den letzten Jahren schon viel Spaß und Zulauf gebracht hat\, findet diesmal 2 Tage lang statt. Samstagabend sind alle zu einer Party eingeladen. \nSolltet ihr bei der motivierten Truppe von Ariochs-Erben mitmache wollen\, meldet euch bitte unter obmann@ariochs-erben.at
URL:https://ariochs-erben.at/event/fantasycon/
ATTACH;FMTTYPE=image/png:https://ariochs-erben.at/wp-content/uploads/2023/11/token_1.png
END:VEVENT
BEGIN:VEVENT
DTSTART;TZID=Europe/Berlin:20240413T170000
DTEND;TZID=Europe/Berlin:20240413T230000
DTSTAMP:20260424T090922
CREATED:20230628T104515Z
LAST-MODIFIED:20240323T133000Z
UID:11323-1713027600-1713049200@ariochs-erben.at
SUMMARY:Goldener Keiler
DESCRIPTION:Goldener Keiler- Fest der Freiheit Avarkas \n  \n  \nMindest Anzahl Teilnehmer:
URL:https://ariochs-erben.at/event/goldener-keiler-2/
LOCATION:Erdbergkeller
ATTACH;FMTTYPE=image/jpeg:https://ariochs-erben.at/wp-content/uploads/2023/04/taverne.jpg
END:VEVENT
BEGIN:VEVENT
DTSTART;VALUE=DATE:20240420
DTEND;VALUE=DATE:20240421
DTSTAMP:20260424T090922
CREATED:20231016T191553Z
LAST-MODIFIED:20231016T191553Z
UID:11558-1713571200-1713657599@ariochs-erben.at
SUMMARY:Dalriada Taverne
DESCRIPTION:Rene lädt zu einer gemütlichen Dalriada Taverne in Schöngrabern ein. \nWeitere Infos folgen.
URL:https://ariochs-erben.at/event/dalriada-taverne/
LOCATION:Schöngraben 68\, Schöngrabern 68\, Schöngrabern\, Niederösterreich\, 2020\, Österreich
CATEGORIES:Ariochs Erben,Dalriada,Larp
ATTACH;FMTTYPE=image/png:https://ariochs-erben.at/wp-content/uploads/2020/01/Karte-mit-Stern-Sepia.png
ORGANIZER;CN="Rainer Rene Dungl":MAILTO:rainer_rene@gmx.net
END:VEVENT
BEGIN:VEVENT
DTSTART;TZID=Europe/Berlin:20240421T170100
DTEND;TZID=Europe/Berlin:20240421T170100
DTSTAMP:20260424T090922
CREATED:20231016T184251Z
LAST-MODIFIED:20231016T184251Z
UID:11483-1713718860-1713718860@ariochs-erben.at
SUMMARY:Podcast „Ariochs Offenbarung“ Folge 17 – GoLive
DESCRIPTION:Gast: Fr. Hanning\nThema: Lokation „Scheiklhütte“
URL:https://ariochs-erben.at/event/podcast-ariochs-offenbarung-folge-17-golive/
CATEGORIES:Ariochs Erben,Larp,Podcast
ATTACH;FMTTYPE=application/pdf:https://ariochs-erben.at/wp-content/uploads/2023/10/Ariochs-Offenbarung-11.pdf
END:VEVENT
BEGIN:VEVENT
DTSTART;TZID=Europe/Berlin:20240424T180000
DTEND;TZID=Europe/Berlin:20240424T220000
DTSTAMP:20260424T090922
CREATED:20240408T085420Z
LAST-MODIFIED:20240408T085420Z
UID:11787-1713981600-1713996000@ariochs-erben.at
SUMMARY:Ariochs Erben goes IMPRO
DESCRIPTION:Es geht weiter mit den kostenlosen Impro-Kursen exklusiv für Vereinsmitglieder! \nAlle spätentschlossenen Interessent_innen\, die sich nicht bereits via Doodle angemeldet haben\, melden sich bis spätestens Fr.\, 19.April bei Kursleiter Reini unter impro@ariochs-erben.at. (Max. 6 Plätze sind dzt. noch frei – 1st come\, 1st served …) \nWir machen dort weiter\, wo wir zuletzt stehen geblieben sind\, werden aber auch für ahnungslose Einsteiger_innen immer wieder einzelne Themen wiederholen – ein ca. 4stündiges Abendprogramm mit viel Spaß am gemeinsamen Scheitern. \n 
URL:https://ariochs-erben.at/event/ariochs-erben-goes-impro-2/
LOCATION:1070 Wien\, Kaiserstraße 5\, Österreich
END:VEVENT
END:VCALENDAR