BEGIN:VCALENDAR
VERSION:2.0
PRODID:-//Ariochs Erben - ECPv6.15.19//NONSGML v1.0//EN
CALSCALE:GREGORIAN
METHOD:PUBLISH
X-ORIGINAL-URL:https://ariochs-erben.at
X-WR-CALDESC:Veranstaltungen für Ariochs Erben
REFRESH-INTERVAL;VALUE=DURATION:PT1H
X-Robots-Tag:noindex
X-PUBLISHED-TTL:PT1H
BEGIN:VTIMEZONE
TZID:Europe/Berlin
BEGIN:DAYLIGHT
TZOFFSETFROM:+0100
TZOFFSETTO:+0200
TZNAME:CEST
DTSTART:20220327T010000
END:DAYLIGHT
BEGIN:STANDARD
TZOFFSETFROM:+0200
TZOFFSETTO:+0100
TZNAME:CET
DTSTART:20221030T010000
END:STANDARD
BEGIN:DAYLIGHT
TZOFFSETFROM:+0100
TZOFFSETTO:+0200
TZNAME:CEST
DTSTART:20230326T010000
END:DAYLIGHT
BEGIN:STANDARD
TZOFFSETFROM:+0200
TZOFFSETTO:+0100
TZNAME:CET
DTSTART:20231029T010000
END:STANDARD
BEGIN:DAYLIGHT
TZOFFSETFROM:+0100
TZOFFSETTO:+0200
TZNAME:CEST
DTSTART:20240331T010000
END:DAYLIGHT
BEGIN:STANDARD
TZOFFSETFROM:+0200
TZOFFSETTO:+0100
TZNAME:CET
DTSTART:20241027T010000
END:STANDARD
END:VTIMEZONE
BEGIN:VEVENT
DTSTART;TZID=Europe/Berlin:20230929T150000
DTEND;TZID=Europe/Berlin:20231001T170000
DTSTAMP:20260423T225536
CREATED:20230929T122743Z
LAST-MODIFIED:20230929T122801Z
UID:11397-1695999600-1696179600@ariochs-erben.at
SUMMARY:Happy Weekend
DESCRIPTION:Wann: 29. Sept.- 1. Okt. 2023\nAnreise am Freitag ab 12:30 möglich!\nWo: Hüttl-Heim / Weidlingbach\nVollverpflegung von Jogi & Julia (Kuchen von Margot\, Ruth & vielleicht bringt ja noch wer was mit ) \nDer Rest wird und wurde per Mail verschickt 🙂
URL:https://ariochs-erben.at/event/happy-weekend/
LOCATION:Hüttlheim\, Steinrieglstraße 61\, Weidlingbach\, 3400\, Österreich
END:VEVENT
BEGIN:VEVENT
DTSTART;TZID=Europe/Berlin:20231012T180000
DTEND;TZID=Europe/Berlin:20231012T230000
DTSTAMP:20260423T225536
CREATED:20221213T094804Z
LAST-MODIFIED:20221213T094804Z
UID:7552-1697133600-1697151600@ariochs-erben.at
SUMMARY:Stammtisch - Ariochs Erben
DESCRIPTION:Zu unserem monatlichen Stammtisch sind alle eingeladen\, egal ob Mitglied\, Anfänger oder Interessent. Bei gemütlicher und familiärer Atmosphäre wird gegessen und geplaudert.\nHier kannst du ganz entspannt vorbei kommen und erste Kontakte knüpfen und Anschluss an Gruppen finden.\nGerne erzählen wir dir dort was wir schon erlebt haben\, wie man sich ein Larp so vorstellen kann und man sich vorbereiten kann. Wenn du Fragen hast kannst du uns bei dieser Gelegenheit auch gerne damit löchern.\nDenn wir alle haben ein gemeinsames Hobby und gemeinsame Interessen die uns verbinden und über die wir uns auf den Stammtischen austauschen.\nWir freuen uns über jeden der vorbei kommt\, egal ob (noch) fremd oder ein altbekanntes Gesicht.\nWenn du dir nicht sicher bist kannst du uns auch jederzeit unter info@ariochs-erben.at oder auf Facebook erreichen und kontaktieren. \nWir freuen uns auf dich!
URL:https://ariochs-erben.at/event/stammtisch-ariochs-erben-31/
LOCATION:Brau.Bar (bei den Stadtbahnbögen)\, Hernalser Gürtel 47\, Wien\, 1170\, Österreich
CATEGORIES:Ariochs Erben,Stammtisch
ATTACH;FMTTYPE=image/png:https://ariochs-erben.at/wp-content/uploads/2018/02/Arioch_Chaso_Stern.png
END:VEVENT
BEGIN:VEVENT
DTSTART;TZID=Europe/Berlin:20231020T150000
DTEND;TZID=Europe/Berlin:20231022T150000
DTSTAMP:20260423T225536
CREATED:20230226T175739Z
LAST-MODIFIED:20230227T053459Z
UID:11148-1697814000-1697986800@ariochs-erben.at
SUMMARY:Mantel\, Degen und eine Reise - Einladungsspiel
DESCRIPTION:Wir (Eva\, Jogi und Boris) planen ein klassisches „Mantel und Degen-Spiel“. \nKlassisch in zwei Aspekten: \n\n7-10 Spieler\, 15-18 NSCs: die NSCs wissen über alles Bescheid und haben eine klare Agenda. (Keine S-NSCs)\nHelden-Szenario à la „3-Musketiere“ und kein historisches Spiel. Das heißt aber nicht\, dass keine historischen Figuren auftauchen können – eben wie bei den „3 Musketieren“.\n\nDas Spiel beginnt 1638\, ist aber\, wie schon geschrieben\, losgelöst von der bespielten Zeitlinie des Barock-Liverollenspiels. \nEs wird gekämpft\, gestritten\, getrunken\, gefeiert\, beschützt\, geweint und geliebt werden. Es wird Verluste geben! Aber auch neue Freunde – und es werden auch ein paar Kilometer zu gehen sein… \nAuf NSC-Seite sind auch Kinder gerne willkommen! \nDas Spiel ist im Jungscharhaus Großloiben\, 3335 Weyer\, Oberösterreich geplant. \nWenn das interessant für dich klingt\, halte dir bitte das Wochenende vom 20.-22. Oktober 2023 frei und gib uns bitte bis 29.1. bescheid\, dass du grundsätzlich dabei sein möchtest. \nWir freuen uns darauf\, \nBoris\, Eva und Jogi
URL:https://ariochs-erben.at/event/mantel-degen-und-eine-reise/
LOCATION:Jungscharhaus Großloiben\, 3335 Weyer\, Oberösterreich\, Jungscharhaus Großloiben\, Weyer\, Oberösterreich\, 3335\, Österreich
CATEGORIES:Ariochs Erben
ATTACH;FMTTYPE=image/png:https://ariochs-erben.at/wp-content/uploads/2023/02/MantelDegen.png
ORGANIZER;CN="Ariochs Erben":MAILTO:finanzen@ariochs-erben.at
END:VEVENT
BEGIN:VEVENT
DTSTART;TZID=Europe/Berlin:20231022T170100
DTEND;TZID=Europe/Berlin:20231022T170100
DTSTAMP:20260423T225536
CREATED:20231013T080425Z
LAST-MODIFIED:20231013T080718Z
UID:11409-1697994060-1697994060@ariochs-erben.at
SUMMARY:Podcast „Ariochs Offenbarung“ Folge 4 – GoLive
DESCRIPTION:Gast: Sandra\nThema: Spezies „Salamin“
URL:https://ariochs-erben.at/event/podcast-ariochs-offenbarung-folge-4-golive/
CATEGORIES:Ariochia,Ariochs Erben,Larp,Podcast
ATTACH;FMTTYPE=application/pdf:https://ariochs-erben.at/wp-content/uploads/2023/10/Spotify.pdf
END:VEVENT
BEGIN:VEVENT
DTSTART;TZID=Europe/Berlin:20231025T170000
DTEND;TZID=Europe/Berlin:20231029T150000
DTSTAMP:20260423T225536
CREATED:20230306T085702Z
LAST-MODIFIED:20230306T085702Z
UID:11195-1698253200-1698591600@ariochs-erben.at
SUMMARY:„LERNEN und LERNEN lassen!“
DESCRIPTION:Hiermit möchte ich dich nun offiziell zu dem Spiel „LERNEN und LERNEN lassen“ vom 25.10.2023 bis zum 29.10.2023 einladen. \nEinladung findest du bitte hier \nDas Anmeldeformular ist hier zum Download bereit
URL:https://ariochs-erben.at/event/lernen-und-lernen-lassen/
LOCATION:Schalottenhof\, Obere Hauptstraße 106\, Steinberg-Dörfl\, 7453\, Austria
ATTACH;FMTTYPE=image/png:https://ariochs-erben.at/wp-content/uploads/2023/03/lul.png
ORGANIZER;CN="Ariochs Erben":MAILTO:finanzen@ariochs-erben.at
END:VEVENT
END:VCALENDAR