BEGIN:VCALENDAR
VERSION:2.0
PRODID:-//Ariochs Erben - ECPv6.15.19//NONSGML v1.0//EN
CALSCALE:GREGORIAN
METHOD:PUBLISH
X-WR-CALNAME:Ariochs Erben
X-ORIGINAL-URL:https://ariochs-erben.at
X-WR-CALDESC:Veranstaltungen für Ariochs Erben
REFRESH-INTERVAL;VALUE=DURATION:PT1H
X-Robots-Tag:noindex
X-PUBLISHED-TTL:PT1H
BEGIN:VTIMEZONE
TZID:Europe/Berlin
BEGIN:DAYLIGHT
TZOFFSETFROM:+0100
TZOFFSETTO:+0200
TZNAME:CEST
DTSTART:20220327T010000
END:DAYLIGHT
BEGIN:STANDARD
TZOFFSETFROM:+0200
TZOFFSETTO:+0100
TZNAME:CET
DTSTART:20221030T010000
END:STANDARD
BEGIN:DAYLIGHT
TZOFFSETFROM:+0100
TZOFFSETTO:+0200
TZNAME:CEST
DTSTART:20230326T010000
END:DAYLIGHT
BEGIN:STANDARD
TZOFFSETFROM:+0200
TZOFFSETTO:+0100
TZNAME:CET
DTSTART:20231029T010000
END:STANDARD
BEGIN:DAYLIGHT
TZOFFSETFROM:+0100
TZOFFSETTO:+0200
TZNAME:CEST
DTSTART:20240331T010000
END:DAYLIGHT
BEGIN:STANDARD
TZOFFSETFROM:+0200
TZOFFSETTO:+0100
TZNAME:CET
DTSTART:20241027T010000
END:STANDARD
END:VTIMEZONE
BEGIN:VEVENT
DTSTART;VALUE=DATE:20230630
DTEND;VALUE=DATE:20230703
DTSTAMP:20260423T212759
CREATED:20221023T064133Z
LAST-MODIFIED:20230211T110525Z
UID:7191-1688083200-1688342399@ariochs-erben.at
SUMMARY:Turnier am Distelhain Teil 10
DESCRIPTION:E I N L A D U N G \n  \nTaDh 10 – 30.6.-2.7.23 \nRitter aus Leidenschaft \n  \nSPIELLEITUNG: Barbara Häusler & Jacky Thayer & Julia Herglotz & Ratmar Reisenberger \nWAS: ein Larp / Liverollenspiel \nSTIL: fantastisches Mittelalter / High–Fantasy / Turnierspiel / Horror \nSETTING: „Wegethal“–Spiel (Multidimensional)\, Soziale Interaktion und Plotspiel im urigen Umfeld. \nUNTERKUNFT: Zeltcon / Vollverpflegung / Feldküche! Vegetarisches Essen möglich\, vegan NICHT \nWIESO: …so ein eigenwilliges Setting?Um ein möglichst breit gefächertes Publikum erfreuen zu können! Es können Charaktere aus fast allen gängigen Fantasy–Welten / Szenarien untergebracht werden\, allerdings funktionieren im Wegethal selbst für Götter ihre Wunder nicht immer zu ihren Gunsten… \nWO: Auf dem Vereinsgelände bei Neupölla Nr. 76 nahe Horn im Waldviertel. (Bundesstraße Nr. 38) \nWER: Der Verein die Dorfmenige\nin Kooperation mit: dem Verein Ariochs Erben & dem Verein Profil Fesch \nTECHNIK/SYSTEM: Codex 3 (wird nach der Anmeldung zugesendet sowie der Charaktergenerator) \nWIEVIEL: \nStaffel 1 bis 10. März: NSC 55 € / SC 70 €Staffel 2 bis 30. April: NSC 60 € / SC 80 €Staffel 3 bis 15. Juni: NSC 65 € / SC 90 €Ab 16. Juni = CON–Zahler: NSC 70 € / SC 100 €Anmeldungen ab 16. Juni 2023 bis zum Spiel werden aus organisatorischenGründen wie CON–Zahler berechnet. \nPutzkaution: Die Putzkaution wird vor Ort am Gelände durch die SL eingehoben\, hierfür bitte passend € 15\,– parat haben.\nEine Rückzahlung ist frühestens am Sonntag nach Abnahme des Geländes möglich. \nVereinsbonus: Dorfmenige\, Ariochs Erben und Profil – 5 € (einmalig abrechenbar)\nBANKDATEN werden nach Erhalt der ANMELDUNG ausgeschickt\, für die \nAnmeldung: turnier.am.distelhain@gmail.com \nLiebe Grüße vom TaDh 10 Orga Team
URL:https://ariochs-erben.at/event/turnier-am-distelhain-teil-10/
CATEGORIES:Ariochs Erben,Fantasy,Larp
ATTACH;FMTTYPE=image/png:https://ariochs-erben.at/wp-content/uploads/2022/10/FB-final.png
ORGANIZER;CN="Dorfmenige":MAILTO:turnier.am.distelhain@gmail.com
END:VEVENT
BEGIN:VEVENT
DTSTART;TZID=Europe/Berlin:20230711T180000
DTEND;TZID=Europe/Berlin:20230711T230000
DTSTAMP:20260423T212759
CREATED:20221213T094021Z
LAST-MODIFIED:20221213T094021Z
UID:7546-1689098400-1689116400@ariochs-erben.at
SUMMARY:Stammtisch - Ariochs Erben
DESCRIPTION:Zu unserem monatlichen Stammtisch sind alle eingeladen\, egal ob Mitglied\, Anfänger oder Interessent. Bei gemütlicher und familiärer Atmosphäre wird gegessen und geplaudert.\nHier kannst du ganz entspannt vorbei kommen und erste Kontakte knüpfen und Anschluss an Gruppen finden.\nGerne erzählen wir dir dort was wir schon erlebt haben\, wie man sich ein Larp so vorstellen kann und man sich vorbereiten kann. Wenn du Fragen hast kannst du uns bei dieser Gelegenheit auch gerne damit löchern.\nDenn wir alle haben ein gemeinsames Hobby und gemeinsame Interessen die uns verbinden und über die wir uns auf den Stammtischen austauschen.\nWir freuen uns über jeden der vorbei kommt\, egal ob (noch) fremd oder ein altbekanntes Gesicht.\nWenn du dir nicht sicher bist kannst du uns auch jederzeit unter info@ariochs-erben.at oder auf Facebook erreichen und kontaktieren. \nWir freuen uns auf dich!
URL:https://ariochs-erben.at/event/stammtisch-ariochs-erben-28/
LOCATION:Brau.Bar (bei den Stadtbahnbögen)\, Hernalser Gürtel 47\, Wien\, 1170\, Österreich
CATEGORIES:Ariochs Erben,Stammtisch
ATTACH;FMTTYPE=image/png:https://ariochs-erben.at/wp-content/uploads/2018/02/Arioch_Chaso_Stern.png
END:VEVENT
END:VCALENDAR